BEGIN:VCALENDAR
VERSION:2.0
PRODID:http://www.pr-saarburg.de
BEGIN:VEVENT
UID:f579260e-095a-11f1-8342-0242ac11002b-1779607800000-de
DTSTAMP:20260214T040929Z
DTSTART:20260524T073000Z
DTEND:20260524T083000Z
SUMMARY;LANGUAGE=de:Hochamt für die Pfarrei mitgestaltet vom Kirchenchor Wiltingen
END:VEVENT
END:VCALENDAR
