BEGIN:VCALENDAR
VERSION:2.0
PRODID:http://www.pr-saarburg.de
BEGIN:VEVENT
UID:e3ca0493-3f8a-11f1-a3e9-0242ac11002b-1781942400000-de
DTSTAMP:20260424T030838Z
DTSTART:20260620T080000Z
DTEND:20260620T084500Z
SUMMARY;LANGUAGE=de:Abschlussgottesdienst der Vorschulkinder der KiTa St. Peter u. Paul Tawern
END:VEVENT
END:VCALENDAR
