BEGIN:VCALENDAR
VERSION:2.0
PRODID:http://www.pr-saarburg.de
BEGIN:VEVENT
UID:7e5e1cba-3d2f-11f1-a3e9-0242ac11002b-1778173200000-de
DTSTAMP:20260421T030921Z
DTSTART:20260507T170000Z
DTEND:20260507T180000Z
SUMMARY;LANGUAGE=de:Heilige Messe mit Bischof Stephan Ackermann anl. der Visitation
END:VEVENT
END:VCALENDAR
