BEGIN:VCALENDAR
VERSION:2.0
PRODID:http://www.pr-saarburg.de
BEGIN:VEVENT
UID:6477dcf1-3d2f-11f1-a3e9-0242ac11002b-1783157400000-de
DTSTAMP:20260421T030838Z
DTSTART:20260704T093000Z
DTEND:20260704T100000Z
SUMMARY;LANGUAGE=de:Orgelmusik zur Mittagszeit (Der Eintritt ist frei. Um eine Spende zur Deckung der Kosten wird gebeten)
END:VEVENT
END:VCALENDAR
