BEGIN:VCALENDAR
VERSION:2.0
PRODID:http://www.pr-saarburg.de
BEGIN:VEVENT
UID:33c95efa-f291-11f0-8342-0242ac11002b-1777118400000-de
DTSTAMP:20260116T040950Z
DTSTART:20260425T120000Z
DTEND:20260425T133000Z
SUMMARY;LANGUAGE=de:Erstkommunionfeier 13:35 Uhr Treffen an der Grundschule 13:45 Uhr Prozession in die Kirche Die Kommunion-Jubilare sind herzlich eingeladen.
END:VEVENT
END:VCALENDAR
