BEGIN:VCALENDAR
VERSION:2.0
PRODID:http://www.pr-saarburg.de
BEGIN:VEVENT
UID:1d83b1b5-3f8b-11f1-a3e9-0242ac11002b-1785576600000-de
DTSTAMP:20260424T031015Z
DTSTART:20260801T093000Z
DTEND:20260801T100000Z
SUMMARY;LANGUAGE=de:Orgelmusik zur Mittagszeit (Der Eintritt ist frei. Um eine Spende zur Deckung der Kosten wird gebeten)
END:VEVENT
END:VCALENDAR
